BEGIN:VCALENDAR
VERSION:2.0
PRODID:-//ChamberMaster//Event Calendar 2.0//EN
METHOD:PUBLISH
X-PUBLISHED-TTL:P3D
REFRESH-INTERVAL:P3D
CALSCALE:GREGORIAN
BEGIN:VEVENT
DTSTART:20140906T130000Z
DTEND:20150111T230000Z
X-MICROSOFT-CDO-ALLDAYEVENT:FALSE
SUMMARY:Butterfly Whirl: Contemporary Quilt Art
DESCRIPTION:Were spreading our love of butterflies across the country\, with Butterfly Whirl: Contemporary Quilt Art\, from the Texas Quilt Museum. One-of-a-kind works of art from the museum?s first national competition have been selected for this special exhibit\, inspired by the National Butterfly Center and NABA. This spectacular show will be on display at the Visitor's Pavilion from Saturday\, Sept. 6\, 2014 through January 11\, 2015\, and tour the nation until January 2018. To read more about the quilts and their creators\, see the article published in American Butterflies here: http://nationalbutterflycenter.org/nbc-multi-media/in-the-news/201-inspired-contemporary-quilt-art-arriving-at-the-national-butterfly-center
X-ALT-DESC;FMTTYPE=text/html:Were spreading our love of butterflies across the country\, with Butterfly Whirl: Contemporary Quilt Art\, from the Texas Quilt Museum. One-of-a-kind works of art from the museum?s first national competition have been selected for this special exhibit\, inspired by the National Butterfly Center and NABA. This spectacular show will be on display at the Visitor&#39\;s Pavilion from Saturday\, Sept. 6\, 2014 through January 11\, 2015\, and tour the nation until January 2018. To read more about the quilts and their creators\, see the article published in American Butterflies here: http://nationalbutterflycenter.org/nbc-multi-media/in-the-news/201-inspired-contemporary-quilt-art-arriving-at-the-national-butterfly-center
LOCATION:National Butterfly Center Visitor's Pavilion\, Mission\, Texas
UID:e.1294.30062
SEQUENCE:3
DTSTAMP:20260425T232539Z
URL:https://business.rgvpartnership.com/events/details/butterfly-whirl-contemporary-quilt-art-09-06-2014-30062
END:VEVENT

END:VCALENDAR
