BEGIN:VCALENDAR
VERSION:2.0
PRODID:-//ChamberMaster//Event Calendar 2.0//EN
METHOD:PUBLISH
X-PUBLISHED-TTL:P3D
REFRESH-INTERVAL:P3D
CALSCALE:GREGORIAN
BEGIN:VEVENT
DTSTART:20150613T153000Z
DTEND:20150829T163000Z
X-MICROSOFT-CDO-ALLDAYEVENT:FALSE
SUMMARY:Butterfly Walk
DESCRIPTION:More species of butterflies have been seen in just the Rio Grande Valley\, than in any other state besides our state of Texas! Join a staff naturalist on a one-hour search for these beautiful winged insects. Bring binoculars if you have them\, and a camera if desired. Loaner binoculars are provided free of charge.
X-ALT-DESC;FMTTYPE=text/html:More species of butterflies have been seen in just the Rio Grande Valley\, than in any other state besides our state of Texas! Join a staff naturalist on a one-hour search for these beautiful winged insects. Bring binoculars if you have them\, and a camera if desired. Loaner binoculars are provided free of charge.
LOCATION:McAllen Nature Center 4101 W Business 83\, McAllen
UID:e.1294.30235
SEQUENCE:3
DTSTAMP:20260423T042148Z
URL:https://business.rgvpartnership.com/events/details/butterfly-walk-06-13-2015-30235
END:VEVENT

END:VCALENDAR
