BEGIN:VCALENDAR
VERSION:2.0
PRODID:-//ChamberMaster//Event Calendar 2.0//EN
METHOD:PUBLISH
X-PUBLISHED-TTL:P3D
REFRESH-INTERVAL:P3D
CALSCALE:GREGORIAN
BEGIN:VEVENT
DTSTART:20180505T130000Z
DTEND:20180505T170000Z
X-MICROSOFT-CDO-ALLDAYEVENT:FALSE
SUMMARY:Business Networking 5K Walk-Run at Rio Grande Valley Premium Outlets
DESCRIPTION:Rio Grande Valley Premium Outlets-Mercedes\, Texas is hosting the Business Networking 5K Walk - Run. Bring your business cards!!! $10 registration (cash or credit card at Management Office - Mon thru Fri 8:30am-5:30pm\, Sat & Sun 11am - 7pm). Questions\, please call Ernie Arredondo - Outlets Director of Marketing 956-650-0145
X-ALT-DESC;FMTTYPE=text/html:Rio Grande Valley Premium Outlets-Mercedes\, Texas is hosting the Business Networking 5K Walk - Run. Bring your business cards!!! $10 registration (cash or credit card at Management Office - Mon thru Fri 8:30am-5:30pm\, Sat &amp\; Sun 11am - 7pm). Questions\, please call Ernie Arredondo - Outlets Director of Marketing 956-650-0145
LOCATION:Rio Grande Valley Premium Outlets\, A Simon Center - starting area in front of Starbucks
UID:e.1294.30419
SEQUENCE:3
DTSTAMP:20260423T112158Z
URL:https://business.rgvpartnership.com/events/details/business-networking-5k-walk-run-at-rio-grande-valley-premium-outlets-30419
END:VEVENT

END:VCALENDAR
