BEGIN:VCALENDAR
VERSION:2.0
PRODID:-//ChamberMaster//Event Calendar 2.0//EN
METHOD:PUBLISH
X-PUBLISHED-TTL:P3D
REFRESH-INTERVAL:P3D
CALSCALE:GREGORIAN
BEGIN:VEVENT
DTSTART:20160103T143000Z
DTEND:20160229T180000Z
X-MICROSOFT-CDO-ALLDAYEVENT:FALSE
SUMMARY:Burd Tours
DESCRIPTION:Take our birding van to birding hot spots on the refuge where private vehicles are not allowed. This tour will offer many opportunities to see waterbirds and raptors. Reservations required\, call 956-244-2019. $4 for adults (16+)\, $3 seniors (62+)\, under 16 free.
X-ALT-DESC;FMTTYPE=text/html:Take our birding van to birding hot spots on the refuge where private vehicles are not allowed. This tour will offer many opportunities to see waterbirds and raptors. Reservations required\, call 956-244-2019. $4 for adults (16+)\, $3 seniors (62+)\, under 16 free.
LOCATION:Laguna Atascosa National Wildlife Refuge
UID:e.1294.30266
SEQUENCE:3
DTSTAMP:20260422T100731Z
URL:https://business.rgvpartnership.com/events/details/burd-tours-01-03-2016-30266
END:VEVENT

END:VCALENDAR
