BEGIN:VCALENDAR
VERSION:2.0
PRODID:-//ChamberMaster//Event Calendar 2.0//EN
METHOD:PUBLISH
X-PUBLISHED-TTL:P3D
REFRESH-INTERVAL:P3D
CALSCALE:GREGORIAN
BEGIN:VEVENT
DTSTART:20140927T140000Z
DTEND:20140927T190000Z
X-MICROSOFT-CDO-ALLDAYEVENT:FALSE
SUMMARY:Build a Website and Learn How to Manage It
DESCRIPTION:Build a custom website for your business to get found online! Attendees can expect to achieve the following: -Build a custom business website managed and optimized by you -Develop a succinct mission statement defining your business\, separating you from your competition -Develop a Value Proposition -Create a Keyword list for organic and paid search capabilities to get found online -Purchase hosting* and learn how to manage your website Leave this workshop with your very own optimized and designed website created by you! REGISTER HERE: https://webdesignvboc.eventbrite.com *Participants will purchase website hosting in addition to registration fee.
X-ALT-DESC;FMTTYPE=text/html:Build a custom website for your business to get found online! Attendees can expect to achieve the following: -Build a custom business website managed and optimized by you -Develop a succinct mission statement defining your business\, separating you from your competition -Develop a Value Proposition -Create a Keyword list for organic and paid search capabilities to get found online -Purchase hosting* and learn how to manage your website Leave this workshop with your very own optimized and designed website created by you! REGISTER HERE: https://webdesignvboc.eventbrite.com *Participants will purchase website hosting in addition to registration fee.
LOCATION:Veterans Business Outreach Center-CESS Building 1407 East Freddy Gonzalez Drive Edinburg\,TX 78539
UID:e.1294.30065
SEQUENCE:3
DTSTAMP:20260426T040809Z
URL:https://business.rgvpartnership.com/events/details/build-a-website-and-learn-how-to-manage-it-09-27-2014-30065
END:VEVENT

END:VCALENDAR
