BEGIN:VCALENDAR
VERSION:2.0
PRODID:-//ChamberMaster//Event Calendar 2.0//EN
METHOD:PUBLISH
X-PUBLISHED-TTL:P3D
REFRESH-INTERVAL:P3D
CALSCALE:GREGORIAN
BEGIN:VEVENT
DTSTART:20161015T200000Z
DTEND:20161015T220000Z
X-MICROSOFT-CDO-ALLDAYEVENT:FALSE
SUMMARY:Bravo Opera: Hansel & Gretel
DESCRIPTION:Special Event Series
X-ALT-DESC;FMTTYPE=text/html:Special Event Series
LOCATION:TSC Arts Center 80 Fort Brown St. Brownsville\, TX. 78526
UID:e.1294.30311
SEQUENCE:3
DTSTAMP:20260424T132017Z
URL:https://business.rgvpartnership.com/events/details/bravo-opera-hansel-gretel-10-15-2016-30311
END:VEVENT

END:VCALENDAR
