BEGIN:VCALENDAR
VERSION:2.0
PRODID:-//ChamberMaster//Event Calendar 2.0//EN
METHOD:PUBLISH
X-PUBLISHED-TTL:P3D
REFRESH-INTERVAL:P3D
CALSCALE:GREGORIAN
BEGIN:VEVENT
DTSTART;VALUE=DATE:20160228
DTEND;VALUE=DATE:20160229
TRANSP:TRANSPARENT
X-MICROSOFT-CDO-ALLDAYEVENT:TRUE
SUMMARY:Brave the Shave for Kids with Cancer-St. Baldrick?s
DESCRIPTION:Doctors Hospital at Renaissance is excited to announce that it will host the 8th Annual Rio Grande Valley ?Brave the Shave for Kids with Cancer? event on February 28\, 2016. Hosted at the Edinburg Conference Center at Renaissance from 1:15 ? 4:00 PM\, ?Brave the Shave? is the St. Baldrick?s Foundation signature head-shaving event where more than 100 people are expected to shave their heads in solidarity with kids with cancer to raise money for lifesaving research. The St. Baldrick?s Foundation is a volunteer-powered organization dedicated to raising money for children?s cancer research. Every 3 minutes a child is diagnosed with cancer\; one in five won?t survive\, and those who do often suffer long-term effects from treatments too harsh for their developing bodies. Kids are special\, and at St. Baldrick?s they treat them that way. From its beginnings\, St. Baldrick?s has believed that kids deserve the chance to be kids ? fun-loving\, carefree\, refreshingly honest\, and always a little goofy ? and deserve the chance at a future. That?s why donations raised at events like the Doctors Hospital at Renaissance ?Brave the Shave for Kids with Cancer? have made it possible for St. Baldrick?s to fund more than $178 million to support the development of childhood cancer treatments that are as unique as every kid. Doctors Hospital at Renaissance?s ?Brave the Shave for Kids with Cancer? will feature the showcase head-shaving event with local professional barbers\, as well as a raffle\, a kid?s area with clowns\, face painting\, and crafts with Dr. Ted E. Bear\, as well as music and fun for the whole family. For more information about ?Brave the Shave? and to register today\, visit https://www.stbaldricks.org/events/valley or call Cristie Esparza at 956-362-3203. We invite you to donate\, volunteer\, sponsor\, give a matching gift\, make a tribute or memorial gift\, create a Hero Fund\, register a team\, or spread the word! Events leading up to the 8th Annual ?Brave the Shave for Kids with Cancer? include: - Gatti?s Pizza Night ? February 23\, 2016 from 4:00 ? 8:00 PM ? Mention St. Baldrick?s when paying and Gatti?s will donate 10% of proceeds to the event - Applebee?s Flapjack Fundraiser ? March 12\, 2015 from 8:00 ? 10:00 AM - $7.00 from each plate purchased will be donated to the event
X-ALT-DESC;FMTTYPE=text/html:Doctors Hospital at Renaissance is excited to announce that it will host the 8th Annual Rio Grande Valley ?Brave the Shave for Kids with Cancer? event on February 28\, 2016. Hosted at the Edinburg Conference Center at Renaissance from 1:15 ? 4:00 PM\, ?Brave the Shave? is the St. Baldrick?s Foundation signature head-shaving event where more than 100 people are expected to shave their heads in solidarity with kids with cancer to raise money for lifesaving research. The St. Baldrick?s Foundation is a volunteer-powered organization dedicated to raising money for children?s cancer research. Every 3 minutes a child is diagnosed with cancer\; one in five won?t survive\, and those who do often suffer long-term effects from treatments too harsh for their developing bodies. Kids are special\, and at St. Baldrick?s they treat them that way. From its beginnings\, St. Baldrick?s has believed that kids deserve the chance to be kids ? fun-loving\, carefree\, refreshingly honest\, and always a little goofy ? and deserve the chance at a future. That?s why donations raised at events like the Doctors Hospital at Renaissance ?Brave the Shave for Kids with Cancer? have made it possible for St. Baldrick?s to fund more than $178 million to support the development of childhood cancer treatments that are as unique as every kid. Doctors Hospital at Renaissance?s ?Brave the Shave for Kids with Cancer? will feature the showcase head-shaving event with local professional barbers\, as well as a raffle\, a kid?s area with clowns\, face painting\, and crafts with Dr. Ted E. Bear\, as well as music and fun for the whole family. For more information about ?Brave the Shave? and to register today\, visit https://www.stbaldricks.org/events/valley or call Cristie Esparza at 956-362-3203. We invite you to donate\, volunteer\, sponsor\, give a matching gift\, make a tribute or memorial gift\, create a Hero Fund\, register a team\, or spread the word! Events leading up to the 8th Annual ?Brave the Shave for Kids with Cancer? include: - Gatti?s Pizza Night ? February 23\, 2016 from 4:00 ? 8:00 PM ? Mention St. Baldrick?s when paying and Gatti?s will donate 10% of proceeds to the event - Applebee?s Flapjack Fundraiser ? March 12\, 2015 from 8:00 ? 10:00 AM - $7.00 from each plate purchased will be donated to the event
LOCATION:Edinburg Conference Center at Renaissance 118 Paseo Del Prado Edinburg\, TX 78539
UID:e.1294.30274
SEQUENCE:3
DTSTAMP:20260425T002947Z
URL:https://business.rgvpartnership.com/events/details/brave-the-shave-for-kids-with-cancer-st-baldrick-s-02-28-2016-30274
END:VEVENT

END:VCALENDAR
