BEGIN:VCALENDAR
VERSION:2.0
PRODID:-//ChamberMaster//Event Calendar 2.0//EN
METHOD:PUBLISH
X-PUBLISHED-TTL:P3D
REFRESH-INTERVAL:P3D
CALSCALE:GREGORIAN
BEGIN:VEVENT
DTSTART;VALUE=DATE:20141030
DTEND;VALUE=DATE:20141101
TRANSP:TRANSPARENT
X-MICROSOFT-CDO-ALLDAYEVENT:TRUE
SUMMARY:Boo at the Zoo
DESCRIPTION:
X-ALT-DESC;FMTTYPE=text/html:
LOCATION:
UID:e.1294.30096
SEQUENCE:3
DTSTAMP:20260426T023742Z
URL:https://business.rgvpartnership.com/events/details/boo-at-the-zoo-10-30-2014-30096
END:VEVENT

END:VCALENDAR
