BEGIN:VCALENDAR
VERSION:2.0
PRODID:-//ChamberMaster//Event Calendar 2.0//EN
METHOD:PUBLISH
X-PUBLISHED-TTL:P3D
REFRESH-INTERVAL:P3D
CALSCALE:GREGORIAN
BEGIN:VEVENT
DTSTART:20150221T160000Z
DTEND:20150221T170000Z
X-MICROSOFT-CDO-ALLDAYEVENT:FALSE
SUMMARY:Bite by Bite - Discover Cooking Fresh
DESCRIPTION:Through garden with Ariel King What is Ariel cooking up this year? Join us for a Bite by Bite journey through Ariel?s garden. Taste the Fresh Promises to be Yummy! Bring a friend\, start a healthy tradition. February 21\, 2015 10:00am
X-ALT-DESC;FMTTYPE=text/html:Through garden with Ariel King What is Ariel cooking up this year? Join us for a Bite by Bite journey through Ariel?s garden. Taste the Fresh Promises to be Yummy! Bring a friend\, start a healthy tradition. February 21\, 2015 10:00am
LOCATION:Valley Nature Center 301 South Border Ave. Weslaco\, Texas 78596
UID:e.1294.30140
SEQUENCE:3
DTSTAMP:20260425T202319Z
URL:https://business.rgvpartnership.com/events/details/bite-by-bite-discover-cooking-fresh-02-21-2015-30140
END:VEVENT

END:VCALENDAR
