BEGIN:VCALENDAR
VERSION:2.0
PRODID:-//ChamberMaster//Event Calendar 2.0//EN
METHOD:PUBLISH
X-PUBLISHED-TTL:P3D
REFRESH-INTERVAL:P3D
CALSCALE:GREGORIAN
BEGIN:VEVENT
DTSTART:20150214T160000Z
DTEND:20150214T170000Z
X-MICROSOFT-CDO-ALLDAYEVENT:FALSE
SUMMARY:Birding and Butterflies Texas style by Luciano Guerra
DESCRIPTION:Luciano Guerra will present a unique presentation about South Texas wildlife through his award-winning photographs. Join us and bring a friend enjoy a morning in nature. Coffee and pastries will be served. February 14\,2015 10:00am Valley Nature Center 956-969-2475
X-ALT-DESC;FMTTYPE=text/html:Luciano Guerra will present a unique presentation about South Texas wildlife through his award-winning photographs. Join us and bring a friend enjoy a morning in nature. Coffee and pastries will be served. February 14\,2015 10:00am Valley Nature Center 956-969-2475
LOCATION:Valley Nature Center 301 South Border Ave. Weslaco\, Texas 78596
UID:e.1294.30139
SEQUENCE:3
DTSTAMP:20260425T202737Z
URL:https://business.rgvpartnership.com/events/details/birding-and-butterflies-texas-style-by-luciano-guerra-02-14-2015-30139
END:VEVENT

END:VCALENDAR
