BEGIN:VCALENDAR
VERSION:2.0
PRODID:-//ChamberMaster//Event Calendar 2.0//EN
METHOD:PUBLISH
X-PUBLISHED-TTL:P3D
REFRESH-INTERVAL:P3D
CALSCALE:GREGORIAN
BEGIN:VEVENT
DTSTART:20160307T200000Z
DTEND:20160331T200000Z
X-MICROSOFT-CDO-ALLDAYEVENT:FALSE
SUMMARY:Bird Walk
DESCRIPTION:Bird Walks 2-3 pm Daily Discover some of south Texas? specialty birds on a short\, easy walk around the visitor center. Wheelchair accessible. FREE with entrance fee.
X-ALT-DESC;FMTTYPE=text/html:Bird Walks 2-3 pm Daily Discover some of south Texas? specialty birds on a short\, easy walk around the visitor center. Wheelchair accessible. FREE with entrance fee.
LOCATION:Laguna Atascosa National Wildlife Refuge.
UID:e.1294.30279
SEQUENCE:3
DTSTAMP:20260422T100816Z
URL:https://business.rgvpartnership.com/events/details/bird-walk-03-07-2016-30279
END:VEVENT

END:VCALENDAR
