BEGIN:VCALENDAR
VERSION:2.0
PRODID:-//ChamberMaster//Event Calendar 2.0//EN
METHOD:PUBLISH
X-PUBLISHED-TTL:P3D
REFRESH-INTERVAL:P3D
CALSCALE:GREGORIAN
BEGIN:VEVENT
DTSTART:20160307T143000Z
DTEND:20160331T050000Z
X-MICROSOFT-CDO-ALLDAYEVENT:FALSE
SUMMARY:Bird Tour
DESCRIPTION:Bird Tours 8:30 ? 12 Daily Take our birding van to birding hot spots on the refuge where private vehicles are not allowed. This tour will offer many opportunities to see water birds and raptors. Reservations required\, call 956-244-2019. Cash or check only\, $4 for adults (16+)\, $3 seniors (62+)\, under 16 free.
X-ALT-DESC;FMTTYPE=text/html:Bird Tours 8:30 ? 12 Daily Take our birding van to birding hot spots on the refuge where private vehicles are not allowed. This tour will offer many opportunities to see water birds and raptors. Reservations required\, call 956-244-2019. Cash or check only\, $4 for adults (16+)\, $3 seniors (62+)\, under 16 free.
LOCATION:Laguna Atascosa National Wildlife Refuge.
UID:e.1294.30278
SEQUENCE:3
DTSTAMP:20260424T225844Z
URL:https://business.rgvpartnership.com/events/details/bird-tour-03-07-2016-30278
END:VEVENT

END:VCALENDAR
