BEGIN:VCALENDAR
VERSION:2.0
PRODID:-//ChamberMaster//Event Calendar 2.0//EN
METHOD:PUBLISH
X-PUBLISHED-TTL:P3D
REFRESH-INTERVAL:P3D
CALSCALE:GREGORIAN
BEGIN:VEVENT
DTSTART:20150618T223000Z
DTEND:20150619T000000Z
X-MICROSOFT-CDO-ALLDAYEVENT:FALSE
SUMMARY:Bird Brew: Making Food for Birds!
DESCRIPTION:Learn recipes for making delicious food that birds will enjoy! It's a great way to attract birds to your backyard and do some backyard birding. Participants get to take their bird food concoctions home to try! Time: 5:30pm-7:00pm Fee: $5 members\, $7 non-members For information call (956) 381-9922 or visit online at www.edinburgwbc.org.
X-ALT-DESC;FMTTYPE=text/html:Learn recipes for making delicious food that birds will enjoy! It&#39\;s a great way to attract birds to your backyard and do some backyard birding. Participants get to take their bird food concoctions home to try! Time: 5:30pm-7:00pm Fee: $5 members\, $7 non-members For information call (956) 381-9922 or visit online at www.edinburgwbc.org.
LOCATION:Edinburg Scenic Wetlands & World Birding Center. 714 Raul Longoria RD\, Edinburg TX 78542
UID:e.1294.30189
SEQUENCE:3
DTSTAMP:20260425T161727Z
URL:https://business.rgvpartnership.com/events/details/bird-brew-making-food-for-birds-06-18-2015-30189
END:VEVENT

END:VCALENDAR
