BEGIN:VCALENDAR
VERSION:2.0
PRODID:-//ChamberMaster//Event Calendar 2.0//EN
METHOD:PUBLISH
X-PUBLISHED-TTL:P3D
REFRESH-INTERVAL:P3D
CALSCALE:GREGORIAN
BEGIN:VEVENT
DTSTART:20150504T130000Z
DTEND:20150504T213000Z
X-MICROSOFT-CDO-ALLDAYEVENT:FALSE
SUMMARY:Bird-A-Thon submission
DESCRIPTION:Checklists of bird sightings during the 2015 Bird-a-Thon must be turned in today by 4:30p.m. to be eligible for awards.
X-ALT-DESC;FMTTYPE=text/html:Checklists of bird sightings during the 2015 Bird-a-Thon must be turned in today by 4:30p.m. to be eligible for awards.
LOCATION:Edinburg Scenic Wetlands & World Birding Center
UID:e.1294.30181
SEQUENCE:3
DTSTAMP:20260423T065948Z
URL:https://business.rgvpartnership.com/events/details/bird-a-thon-submission-05-04-2015-30181
END:VEVENT

END:VCALENDAR
