BEGIN:VCALENDAR
VERSION:2.0
PRODID:-//ChamberMaster//Event Calendar 2.0//EN
METHOD:PUBLISH
X-PUBLISHED-TTL:P3D
REFRESH-INTERVAL:P3D
CALSCALE:GREGORIAN
BEGIN:VEVENT
DTSTART:20150328T130000Z
DTEND:20150328T170000Z
X-MICROSOFT-CDO-ALLDAYEVENT:FALSE
SUMMARY:Bird-A-Thon Kick-off
DESCRIPTION:Join EWBC for a Birding Competition for the whole family! Bird A Thon Kick-off 8 am to 12 pm - Registration 8:30 am to 10 am - Bird Walk 10:30 am to 12 pm - How to read a field guide Competition: Edinburg Monday\, May 4th\, 4:30 pm - Turn in checklist/photos Wednesday. May 6th. 6pm-7:30pm There will be three age divisions: Youth ages 8 to 12\, Teens ages 13-17\, Adults ages 18 and up. There will also be a Family/Group division for ages 5 and up. To register\, please call (956) 381-9922 on or before March 28th\, 2015. The registration fee is $10 per adult and $8 per child. Each registrant will receive a free t-shirt\, snacks and other goodies.
X-ALT-DESC;FMTTYPE=text/html:Join EWBC for a Birding Competition for the whole family! Bird A Thon Kick-off 8 am to 12 pm - Registration 8:30 am to 10 am - Bird Walk 10:30 am to 12 pm - How to read a field guide Competition: Edinburg Monday\, May 4th\, 4:30 pm - Turn in checklist/photos Wednesday. May 6th. 6pm-7:30pm There will be three age divisions: Youth ages 8 to 12\, Teens ages 13-17\, Adults ages 18 and up. There will also be a Family/Group division for ages 5 and up. To register\, please call (956) 381-9922 on or before March 28th\, 2015. The registration fee is $10 per adult and $8 per child. Each registrant will receive a free t-shirt\, snacks and other goodies.
LOCATION:Edinburg Scenic Wetlands & World Birding Center. 714 Raul Longoria RD\, Edinburg TX 78542
UID:e.1294.30171
SEQUENCE:3
DTSTAMP:20260425T185356Z
URL:https://business.rgvpartnership.com/events/details/bird-a-thon-kick-off-03-28-2015-30171
END:VEVENT

END:VCALENDAR
