BEGIN:VCALENDAR
VERSION:2.0
PRODID:-//ChamberMaster//Event Calendar 2.0//EN
METHOD:PUBLISH
X-PUBLISHED-TTL:P3D
REFRESH-INTERVAL:P3D
CALSCALE:GREGORIAN
BEGIN:VEVENT
DTSTART:20150506T230000Z
DTEND:20150507T003000Z
X-MICROSOFT-CDO-ALLDAYEVENT:FALSE
SUMMARY:Bird-A-Thon Awards Ceremony
DESCRIPTION:Awards for 1st and 2nd place within divisions will be awarded to the winning teams of the 2015 Bird-a-Thon. For information call (956) 381-9922 or visit online at www.edinburgwbc.
X-ALT-DESC;FMTTYPE=text/html:Awards for 1st and 2nd place within divisions will be awarded to the winning teams of the 2015 Bird-a-Thon. For information call (956) 381-9922 or visit online at www.edinburgwbc.
LOCATION:Edinburg Scenic Wetlands & World Birding Center
UID:e.1294.30182
SEQUENCE:3
DTSTAMP:20260425T161141Z
URL:https://business.rgvpartnership.com/events/details/bird-a-thon-awards-ceremony-05-06-2015-30182
END:VEVENT

END:VCALENDAR
