BEGIN:VCALENDAR
VERSION:2.0
PRODID:-//ChamberMaster//Event Calendar 2.0//EN
METHOD:PUBLISH
X-PUBLISHED-TTL:P3D
REFRESH-INTERVAL:P3D
CALSCALE:GREGORIAN
BEGIN:VEVENT
DTSTART:20161030T200000Z
DTEND:20161030T220000Z
X-MICROSOFT-CDO-ALLDAYEVENT:FALSE
SUMMARY:Bill Haugeberg\, trombone & Adam Decker\, trumpet
DESCRIPTION:Faculty Artist Series
X-ALT-DESC;FMTTYPE=text/html:Faculty Artist Series
LOCATION:TSC Arts Center 80 Fort Brown St. Brownsville\, TX. 78526
UID:e.1294.30315
SEQUENCE:3
DTSTAMP:20260424T144213Z
URL:https://business.rgvpartnership.com/events/details/bill-haugeberg-trombone-adam-decker-trumpet-10-30-2016-30315
END:VEVENT

END:VCALENDAR
