BEGIN:VCALENDAR
VERSION:2.0
PRODID:-//ChamberMaster//Event Calendar 2.0//EN
METHOD:PUBLISH
X-PUBLISHED-TTL:P3D
REFRESH-INTERVAL:P3D
CALSCALE:GREGORIAN
BEGIN:VEVENT
DTSTART:20160116T190000Z
DTEND:20160227T220000Z
X-MICROSOFT-CDO-ALLDAYEVENT:FALSE
SUMMARY:Bike Tour of Bahia Grande
DESCRIPTION:Get some exercise and enjoy the natural scenery on this ~ 7.5 mile guided tour of the refuge?s Bahia Grande Unit. This is a leisurely ride as a group along a caliche trail through coastal prairies and salt water bays. Great for families! Recommended items to bring are insect repellant\, water bottle\, patch kit\, air pump and helmet. Reservations required\, call 956-244-2019. $4 for adults (16+)\, $3 seniors (62+)\, under 16 free.
X-ALT-DESC;FMTTYPE=text/html:Get some exercise and enjoy the natural scenery on this ~ 7.5 mile guided tour of the refuge?s Bahia Grande Unit. This is a leisurely ride as a group along a caliche trail through coastal prairies and salt water bays. Great for families! Recommended items to bring are insect repellant\, water bottle\, patch kit\, air pump and helmet. Reservations required\, call 956-244-2019. $4 for adults (16+)\, $3 seniors (62+)\, under 16 free.
LOCATION:
UID:e.1294.30268
SEQUENCE:3
DTSTAMP:20260425T002900Z
URL:https://business.rgvpartnership.com/events/details/bike-tour-of-bahia-grande-01-16-2016-30268
END:VEVENT

END:VCALENDAR
