BEGIN:VCALENDAR
VERSION:2.0
PRODID:-//ChamberMaster//Event Calendar 2.0//EN
METHOD:PUBLISH
X-PUBLISHED-TTL:P3D
REFRESH-INTERVAL:P3D
CALSCALE:GREGORIAN
BEGIN:VEVENT
DTSTART:20170204T200000Z
DTEND:20170204T220000Z
X-MICROSOFT-CDO-ALLDAYEVENT:FALSE
SUMMARY:Big Squeeze Talent Showcase – Los Fresnos
DESCRIPTION:Texas Folklife and Los Fresnos High School are pleased to announce that our first Big Squeeze Talent Showcase of 2017 will take place at the Los Fresnos High School Cafetorium on Saturday\, February 4\, 2017. We are excited to find and showcase accordion talent! We are looking for accordion players ages 21 and under to showcase their performance abilities in three main accordion genre categories: Polka\, Cajun / Zydeco and Conjunto. The Polka genre will include German\, Czech\, and Polish traditions. Cajun / Zydeco will include Creole\, Cajun and Zydeco musical traditions. Conjunto will include Norte o and Tejano. Please contact Texas Folklife if you are unsure under which category your music falls.
X-ALT-DESC;FMTTYPE=text/html:Texas Folklife and Los Fresnos High School are pleased to announce that our first Big Squeeze Talent Showcase of 2017 will take place at the Los Fresnos High School Cafetorium on Saturday\, February 4\, 2017. We are excited to find and showcase accordion talent! We are looking for accordion players ages 21 and under to showcase their performance abilities in three main accordion genre categories: Polka\, Cajun / Zydeco and Conjunto. The Polka genre will include German\, Czech\, and Polish traditions. Cajun / Zydeco will include Creole\, Cajun and Zydeco musical traditions. Conjunto will include Norte&ntilde\;o and Tejano. Please contact Texas Folklife if you are unsure under which category your music falls.
LOCATION:Los Fresnos High School Cafetorium 907 N Arroyo Blvd\, Los Fresnos\, TX 78566
UID:e.1294.30380
SEQUENCE:3
DTSTAMP:20260424T083754Z
URL:https://business.rgvpartnership.com/events/details/big-squeeze-talent-showcase-los-fresnos-30380
END:VEVENT

END:VCALENDAR
