BEGIN:VCALENDAR
VERSION:2.0
PRODID:-//ChamberMaster//Event Calendar 2.0//EN
METHOD:PUBLISH
X-PUBLISHED-TTL:P3D
REFRESH-INTERVAL:P3D
CALSCALE:GREGORIAN
BEGIN:VEVENT
DTSTART:20140924T010000Z
DTEND:20140924T040000Z
X-MICROSOFT-CDO-ALLDAYEVENT:FALSE
SUMMARY:Bidi Bidi Bom Bom to the Polls!
DESCRIPTION:We are going to bidi bidi bom bom our way to the polls! Join us for a Selena themed party at Suerte Bar and Grill to celebrate National Voter Registration Day. Register to vote and enjoy music and dance\, door prizes\, Selena karaoke/costume contest\, and a photo booth with a life-size Selena cutout! Invite your friend and spread the word\, use #SelenaVoters
X-ALT-DESC;FMTTYPE=text/html:We are going to bidi bidi bom bom our way to the polls! Join us for a Selena themed party at Suerte Bar and Grill to celebrate National Voter Registration Day. Register to vote and enjoy music and dance\, door prizes\, Selena karaoke/costume contest\, and a photo booth with a life-size Selena cutout! Invite your friend and spread the word\, use #SelenaVoters
LOCATION:Suerte Bar and Grill 301 S 17th St McAllen\, TX 78501
UID:e.1294.30075
SEQUENCE:3
DTSTAMP:20260426T041306Z
URL:https://business.rgvpartnership.com/events/details/bidi-bidi-bom-bom-to-the-polls-09-23-2014-30075
END:VEVENT

END:VCALENDAR
