BEGIN:VCALENDAR
VERSION:2.0
PRODID:-//ChamberMaster//Event Calendar 2.0//EN
METHOD:PUBLISH
X-PUBLISHED-TTL:P3D
REFRESH-INTERVAL:P3D
CALSCALE:GREGORIAN
BEGIN:VEVENT
DTSTART:20150124T160000Z
DTEND:20150124T170000Z
X-MICROSOFT-CDO-ALLDAYEVENT:FALSE
SUMMARY:Becky Reyes Medicinal Plants of Peru - Natures pharmacy
DESCRIPTION:ecky Reyes Medicinal Plants of Peru - Natures pharmacy January 24\,2015 10:00am Reyes works as an environmental educator at the World Birding center and studied at UTPA. Becky will visit the Valley Nature center on January 24\,2015 at 10:00 to speak to us about Natures pharmacy.
X-ALT-DESC;FMTTYPE=text/html:ecky Reyes Medicinal Plants of Peru - Natures pharmacy January 24\,2015 10:00am Reyes works as an environmental educator at the World Birding center and studied at UTPA. Becky will visit the Valley Nature center on January 24\,2015 at 10:00 to speak to us about Natures pharmacy.
LOCATION:Valley Nature Center 301 South Border Ave. Weslaco
UID:e.1294.30135
SEQUENCE:3
DTSTAMP:20260425T220344Z
URL:https://business.rgvpartnership.com/events/details/becky-reyes-medicinal-plants-of-peru-natures-pharmacy-01-24-2015-30135
END:VEVENT

END:VCALENDAR
