BEGIN:VCALENDAR
VERSION:2.0
PRODID:-//ChamberMaster//Event Calendar 2.0//EN
METHOD:PUBLISH
X-PUBLISHED-TTL:P3D
REFRESH-INTERVAL:P3D
CALSCALE:GREGORIAN
BEGIN:VEVENT
DTSTART:20150731T010000Z
DTEND:20150731T023000Z
X-MICROSOFT-CDO-ALLDAYEVENT:FALSE
SUMMARY:Bats!
DESCRIPTION:Curious to learn about the only mammal species that possesses true flight? Join us at the EWBC and discover the mysterious yet intriguing world of bats! Learn cool facts about these fascinating critters\, which species can be seen in our area\, and how beneficial they are to our environment. Fee: Regular Admission Time: 8:00-9:30 pm For information call (956) 381-9922 or visit online at www.edinburgwbc.org.
X-ALT-DESC;FMTTYPE=text/html:Curious to learn about the only mammal species that possesses true flight? Join us at the EWBC and discover the mysterious yet intriguing world of bats! Learn cool facts about these fascinating critters\, which species can be seen in our area\, and how beneficial they are to our environment. Fee: Regular Admission Time: 8:00-9:30 pm For information call (956) 381-9922 or visit online at www.edinburgwbc.org.
LOCATION:Edinburg Scenic Wetlands & World Birding Center. 714 Raul Longoria RD\, Edinburg TX 78542
UID:e.1294.30197
SEQUENCE:3
DTSTAMP:20260424T100640Z
URL:https://business.rgvpartnership.com/events/details/bats-07-30-2015-30197
END:VEVENT

END:VCALENDAR
