BEGIN:VCALENDAR
VERSION:2.0
PRODID:-//ChamberMaster//Event Calendar 2.0//EN
METHOD:PUBLISH
X-PUBLISHED-TTL:P3D
REFRESH-INTERVAL:P3D
CALSCALE:GREGORIAN
BEGIN:VEVENT
DTSTART:20160307T143000Z
DTEND:20160328T170000Z
X-MICROSOFT-CDO-ALLDAYEVENT:FALSE
SUMMARY:Bahia Grande BusTour
DESCRIPTION:Bahia Grande Bus Tour 8:30 - 12 Mondays Discover the history of this refuge unit and see how the habitats are being restored. This area is one of the largest coastal wetland restoration projects in the United States. Enjoy the coastal prairies and fresh and saltwater bays and the wildlife they provide for. Binoculars and cameras are recommended. No restrooms available. Reservations required\, call 956-244-2019. Cash or check only $4 for adults (16+)\, $3 seniors (62+)\, under 16 free.
X-ALT-DESC;FMTTYPE=text/html:Bahia Grande Bus Tour 8:30 - 12 Mondays Discover the history of this refuge unit and see how the habitats are being restored. This area is one of the largest coastal wetland restoration projects in the United States. Enjoy the coastal prairies and fresh and saltwater bays and the wildlife they provide for. Binoculars and cameras are recommended. No restrooms available. Reservations required\, call 956-244-2019. Cash or check only $4 for adults (16+)\, $3 seniors (62+)\, under 16 free.
LOCATION:Laguna Atascosa National Wildlife Refuge.
UID:e.1294.30281
SEQUENCE:3
DTSTAMP:20260424T225908Z
URL:https://business.rgvpartnership.com/events/details/bahia-grande-bustour-03-07-2016-30281
END:VEVENT

END:VCALENDAR
