BEGIN:VCALENDAR
VERSION:2.0
PRODID:-//ChamberMaster//Event Calendar 2.0//EN
METHOD:PUBLISH
X-PUBLISHED-TTL:P3D
REFRESH-INTERVAL:P3D
CALSCALE:GREGORIAN
BEGIN:VEVENT
DTSTART:20170202T141500Z
DTEND:20170331T163000Z
X-MICROSOFT-CDO-ALLDAYEVENT:FALSE
SUMMARY:Bahia Grande Bus Tour
DESCRIPTION:8:15   11:30 Thursdays\, Fridays & Saturdays (starting Feb. 2) Discover the history of this refuge unit and see how the habitats are being restored. This area is one of the largest coastal wetland restoration projects in the United States. Enjoy the coastal prairies and fresh and saltwater bays and the wildlife they provide for. Binoculars and cameras are recommended. No restrooms available. Reservations required\, call 956-244-2019. Cash or check only $4 for adults (16+)\, $3 seniors (62+)\, under 16 free.
X-ALT-DESC;FMTTYPE=text/html:8:15 &ndash\; 11:30 Thursdays\, Fridays &amp\; Saturdays (starting Feb. 2) Discover the history of this refuge unit and see how the habitats are being restored. This area is one of the largest coastal wetland restoration projects in the United States. Enjoy the coastal prairies and fresh and saltwater bays and the wildlife they provide for. Binoculars and cameras are recommended. No restrooms available. Reservations required\, call 956-244-2019. Cash or check only $4 for adults (16+)\, $3 seniors (62+)\, under 16 free.
LOCATION:Laguna Atascosa National Wildlife Refuge 22688 Buena Vista Rd Los Fresnos\, TX 78566
UID:e.1294.30375
SEQUENCE:3
DTSTAMP:20260424T054525Z
URL:https://business.rgvpartnership.com/events/details/bahia-grande-bus-tour-30375
END:VEVENT

END:VCALENDAR
