BEGIN:VCALENDAR
VERSION:2.0
PRODID:-//ChamberMaster//Event Calendar 2.0//EN
METHOD:PUBLISH
X-PUBLISHED-TTL:P3D
REFRESH-INTERVAL:P3D
CALSCALE:GREGORIAN
BEGIN:VEVENT
DTSTART:20140927T150000Z
DTEND:20140927T190000Z
X-MICROSOFT-CDO-ALLDAYEVENT:FALSE
SUMMARY:Arbor View Rehabilitation & Nursing Center Show N Shine
DESCRIPTION:Car show\, good music\, come and join the fun!\n\n\n\nFood will be provided for all car show participants!
X-ALT-DESC;FMTTYPE=text/html:Car show\, good music\, come and join the fun!<br />\n<br />\nFood will be provided for all car show participants!
LOCATION:Arbor View Rehabilitation & Nursing Center 218 Baltic Ave Edinburg\, X 78539
UID:e.1294.30066
SEQUENCE:3
DTSTAMP:20260426T041052Z
URL:https://business.rgvpartnership.com/events/details/arbor-view-rehabilitation-nursing-center-show-n-shine-09-27-2014-30066
END:VEVENT

END:VCALENDAR
