BEGIN:VCALENDAR
VERSION:2.0
PRODID:-//ChamberMaster//Event Calendar 2.0//EN
METHOD:PUBLISH
X-PUBLISHED-TTL:P3D
REFRESH-INTERVAL:P3D
CALSCALE:GREGORIAN
BEGIN:VEVENT
DTSTART:20190302T130000Z
DTEND:20190302T180000Z
X-MICROSOFT-CDO-ALLDAYEVENT:FALSE
SUMMARY:Arbor Day Celebration 2019
DESCRIPTION:The Arbor Day Celebration is a fun-filled day where anyone can join us in a timed 5K or 10K run\, a Kids 1 Mile Run (12 years of age and under)\, and a 25 Mile or 50 Mile Bike Tour. Shirts and finisher medals will be given to participants. NO ON-SITE REGISTRATION WILL BE AVAILABLE! If you don't want to run or cycle you can take part in an Educational Tree Workshop or enjoy the activities held at the park. All events commence at McAllen Municipal Park on Bicentennial. We will be giving away free trees while supplies last. It will be a Celebration that your whole family can enjoy. We invite everyone to come out and participate.
X-ALT-DESC;FMTTYPE=text/html:The Arbor Day Celebration is a fun-filled day where anyone can join us in a timed 5K or 10K run\, a Kids 1 Mile Run (12 years of age and under)\, and a 25 Mile or 50 Mile Bike Tour. Shirts and finisher medals will be given to participants. NO ON-SITE REGISTRATION WILL BE AVAILABLE! If you don&#39\;t want to run or cycle you can take part in an Educational Tree Workshop or enjoy the activities held at the park. All events commence at McAllen Municipal Park on Bicentennial. We will be giving away free trees while supplies last. It will be a Celebration that your whole family can enjoy. We invite everyone to come out and participate.
LOCATION:McAllen Municipal Park 1921 N Bicentennial Blvd. McAllen\, TX 78501
UID:e.1294.30421
SEQUENCE:3
DTSTAMP:20260422T194443Z
URL:https://business.rgvpartnership.com/events/details/arbor-day-celebration-2019-30421
END:VEVENT

END:VCALENDAR
