BEGIN:VCALENDAR
VERSION:2.0
PRODID:-//ChamberMaster//Event Calendar 2.0//EN
METHOD:PUBLISH
X-PUBLISHED-TTL:P3D
REFRESH-INTERVAL:P3D
CALSCALE:GREGORIAN
BEGIN:VEVENT
DTSTART:20150623T133000Z
DTEND:20150626T203000Z
X-MICROSOFT-CDO-ALLDAYEVENT:FALSE
SUMMARY:Aquanauts Camp
DESCRIPTION:Get a little wet and wild at the Edinburg Scenic Wetlands & World Birding Center?s Aquanauts camp. This is an exciting camp that is all about water and aquatic life. Each day will be full of fun and exciting hands-on activities and adventures. Participants will take an amazing field trip to South Padre Island to find out what makes this coastal habitat a special one and will include a sea creature dissection. They will also get to visit Santa Ana National Wildlife Refuge to explore what the site has to offer. All participants will have a blast learning about wetland critters and coastal ecology while making friends and memories that will be unforgettable. The Aquanauts Nature Camp is for children ages 9 to 12. Snacks are provided though participants will need to bring a sack lunch. The camp will run Tuesday\, June 23rd to Friday\, June 26th from 8:30 am - 2:30 pm. The fee is $70 for Scenic Wetlands members and $78 for non-members. Space is limited so call ahead to register no later than one week before the start of camp. For more information call (956)381-9922 or visit www.edinburgwbc.org.
X-ALT-DESC;FMTTYPE=text/html:Get a little wet and wild at the Edinburg Scenic Wetlands &amp\; World Birding Center?s Aquanauts camp. This is an exciting camp that is all about water and aquatic life. Each day will be full of fun and exciting hands-on activities and adventures. Participants will take an amazing field trip to South Padre Island to find out what makes this coastal habitat a special one and will include a sea creature dissection. They will also get to visit Santa Ana National Wildlife Refuge to explore what the site has to offer. All participants will have a blast learning about wetland critters and coastal ecology while making friends and memories that will be unforgettable. The Aquanauts Nature Camp is for children ages 9 to 12. Snacks are provided though participants will need to bring a sack lunch. The camp will run Tuesday\, June 23rd to Friday\, June 26th from 8:30 am - 2:30 pm. The fee is $70 for Scenic Wetlands members and $78 for non-members. Space is limited so call ahead to register no later than one week before the start of camp. For more information call (956)381-9922 or visit www.edinburgwbc.org.
LOCATION:World Birding Center\, South Raul Longoria Road\, Edinburg\, TX\, United States
UID:e.1294.30191
SEQUENCE:3
DTSTAMP:20260425T161002Z
URL:https://business.rgvpartnership.com/events/details/aquanauts-camp-06-23-2015-30191
END:VEVENT

END:VCALENDAR
