BEGIN:VCALENDAR
VERSION:2.0
PRODID:-//ChamberMaster//Event Calendar 2.0//EN
METHOD:PUBLISH
X-PUBLISHED-TTL:P3D
REFRESH-INTERVAL:P3D
CALSCALE:GREGORIAN
BEGIN:VEVENT
DTSTART:20191023T133000Z
DTEND:20191023T210000Z
X-MICROSOFT-CDO-ALLDAYEVENT:FALSE
SUMMARY:Annual Tour of the Port of Brownsville!
DESCRIPTION:Your invited to join us as we take a tour of your Port of Brownsville\; consisting of both land and sea- along the channel to dock in South Padre Island.\n\n \n\nDate: Wednesday\, October 23 2019\n\nTime: 8:30am to 4pm\n\nCost: $25 for the bus ride\, meals and beverages\n\nBus to depart from the Pharr Event Center\n\n\n\nUpdates on:\n\n\n	facilities for shipping vessels\n	 LNG projects\n	investment opportunities\n	opportunities to do business with the port\n	update on activity at the port\n\n\nFor more information contact monica@rgvpartnership.com or (956) 968-3141
X-ALT-DESC;FMTTYPE=text/html:<h3 style="color:#aaa\;font-style:italic\;"><strong><em><span style="color:mediumblue\;"><span style="font-family:&#10\;"><span style="font-size:12.0pt\;">Your invited to join us as we take a tour of your Port of Brownsville\; consisting of both land and sea- along the channel to dock in South Padre Island.</span></span></span></em></strong><br>\n&nbsp\;<br>\n<strong><em><span style="color:mediumblue\;"><span style="font-family:&#10\;"><span style="font-size:12.0pt\;">Date: Wednesday\, October 23 2019<br>\nTime: 8:30am to 4pm<br>\nCost: $25 for the bus ride\, meals and beverages</span></span></span></em></strong><br>\n<span class="marker"><strong><em><span style="color:mediumblue\;"><span style="font-family:calibri light\,sans-serif\;"><span style="font-size:12.0pt\;">Bus to depart from the Pharr Event Center</span></span></span></em></strong></span><br>\n<br>\n<strong><em><span style="color:mediumblue\;"><span style="font-family:&#10\;"><span style="font-size:12.0pt\;">Updates on:</span></span></span></em></strong></h3>\n\n<ul>\n	<li><strong><span style="color:mediumblue\;"><span style="font-family:calibri light\,sans-serif\;"><span style="font-size:12.0pt\;">facilities for shipping vessels</span></span></span></strong></li>\n	<li><strong><span style="color:mediumblue\;"><span style="font-family:calibri light\,sans-serif\;"><span style="font-size:12.0pt\;">&#8203\;LNG projects</span></span></span></strong></li>\n	<li><strong><span style="color:mediumblue\;"><span style="font-family:calibri light\,sans-serif\;"><span style="font-size:12.0pt\;">investment opportunities</span></span></span></strong></li>\n	<li><strong><span style="color:mediumblue\;"><span style="font-family:calibri light\,sans-serif\;"><span style="font-size:12.0pt\;">opportunities to do business with the port</span></span></span></strong></li>\n	<li><strong><span style="color:mediumblue\;"><span style="font-family:calibri light\,sans-serif\;"><span style="font-size:12.0pt\;">update on activity at the port</span></span></span></strong></li>\n</ul>\n\n<h3 style="color:#aaa\;font-style:italic\;"><strong><em><span style="color:mediumblue\;"><span style="font-family:&#10\;"><span style="font-size:12.0pt\;">For more information contact monica@rgvpartnership.com or (956) 968-3141</span></span></span></em></strong></h3>\n
LOCATION:
UID:e.1294.30446
SEQUENCE:3
DTSTAMP:20260422T100828Z
URL:https://business.rgvpartnership.com/events/details/annual-tour-of-the-port-of-brownsville-30446
END:VEVENT

END:VCALENDAR
