BEGIN:VCALENDAR
VERSION:2.0
PRODID:-//ChamberMaster//Event Calendar 2.0//EN
METHOD:PUBLISH
X-PUBLISHED-TTL:P3D
REFRESH-INTERVAL:P3D
CALSCALE:GREGORIAN
BEGIN:VEVENT
DTSTART:20141206T140000Z
DTEND:20141206T190000Z
X-MICROSOFT-CDO-ALLDAYEVENT:FALSE
SUMMARY:Annual Garage/RummageSale
DESCRIPTION:Annual Garage/Rummage Sale Saturday\, December 6\, 2014\, 8 a.m. to 1 p.m. Grace Lutheran Church\, 1001 E. Jackson St.at 10th St.\, Harlingen Adults' and children's clothes\,shoes and accessories\; small appliances\; kitchen and household items\; books\, CDs\, DVDs\; toys\; jewelry\, decorations and Christmas items
X-ALT-DESC;FMTTYPE=text/html:Annual Garage/Rummage Sale Saturday\, December 6\, 2014\, 8 a.m. to 1 p.m. Grace Lutheran Church\, 1001 E. Jackson St.at 10th St.\, Harlingen Adults&#39\; and children&#39\;s clothes\,shoes and accessories\; small appliances\; kitchen and household items\; books\, CDs\, DVDs\; toys\; jewelry\, decorations and Christmas items
LOCATION:Grace Lutheran Church Parish Hall 1001 E. Jackson St. Harlingen. TX 78550
UID:e.1294.30116
SEQUENCE:3
DTSTAMP:20260425T232128Z
URL:https://business.rgvpartnership.com/events/details/annual-garage-rummagesale-12-06-2014-30116
END:VEVENT

END:VCALENDAR
