BEGIN:VCALENDAR
VERSION:2.0
PRODID:-//ChamberMaster//Event Calendar 2.0//EN
METHOD:PUBLISH
X-PUBLISHED-TTL:P3D
REFRESH-INTERVAL:P3D
CALSCALE:GREGORIAN
BEGIN:VEVENT
DTSTART:20150523T190000Z
DTEND:20150523T210000Z
X-MICROSOFT-CDO-ALLDAYEVENT:FALSE
SUMMARY:Animal Tracks Detectives
DESCRIPTION:Do you like solving puzzles or mysteries about animals? Then this program is just for you! The EWBC invites you to visit us for a fun-filled family presentation that will teach you about RGV animals and their tracks. You are also encouraged to take an adventure on our trails with our Animal Tracks Detective journal to solve the mystery of the animals that left behind their clues. You'll have a great time writing your stories of how the creatures stumbled upon the way. Date: Saturday\, February 21\, 2015 Time: 2 pm to 4 pm Fee: Regular Admission\, Members Free Registration is required. Please call us at (956) 381-9922.
X-ALT-DESC;FMTTYPE=text/html:Do you like solving puzzles or mysteries about animals? Then this program is just for you! The EWBC invites you to visit us for a fun-filled family presentation that will teach you about RGV animals and their tracks. You are also encouraged to take an adventure on our trails with our Animal Tracks Detective journal to solve the mystery of the animals that left behind their clues. You&#39\;ll have a great time writing your stories of how the creatures stumbled upon the way. Date: Saturday\, February 21\, 2015 Time: 2 pm to 4 pm Fee: Regular Admission\, Members Free Registration is required. Please call us at (956) 381-9922.
LOCATION:World Birding Center\, South Raul Longoria Road\, Edinburg\, TX\, United States
UID:e.1294.30184
SEQUENCE:3
DTSTAMP:20260425T160520Z
URL:https://business.rgvpartnership.com/events/details/animal-tracks-detectives-05-23-2015-30184
END:VEVENT

END:VCALENDAR
