BEGIN:VCALENDAR
VERSION:2.0
PRODID:-//ChamberMaster//Event Calendar 2.0//EN
METHOD:PUBLISH
X-PUBLISHED-TTL:P3D
REFRESH-INTERVAL:P3D
CALSCALE:GREGORIAN
BEGIN:VEVENT
DTSTART:20200116T173000Z
DTEND:20200116T190000Z
X-MICROSOFT-CDO-ALLDAYEVENT:FALSE
SUMMARY:AMLO and the 4th Transformation of México at One Year
DESCRIPTION:AMLO and the 4th Transformation of Mexico at One Year\n\n\n\nA recent headline in the New York Times was enough to raise both eyebrows and valid concerns about what?s happening in Mexico.\n\n?López Obrador Is Cruising\, Mexico Is Not?\n\nAs we look back upon the first year of Andrés Manuel López Obrador?s (AMLO) term as president of Mexico\, there are areas of concern.  Crime is up\, economic stagnation has set in and AMLO?s social programs continue to grow.  Yet\, the president remains widely popular.  When he ran for office\, AMLO promised 4% growth.  This past year\, Mexico fell into a recession\, and some economists believe it could get even worse in 2020.\n\nWhat does all of this mean?  Well\, it?s complicated and that?s why we?re bringing in an expert.  Duncan Wood\, Director of the Mexico Institute at the Woodrow Wilson Center in Washington\, DC is an expert in Mexico policy\, trade\, energy and so much more and we are proud to announce his return to Texas.\n\nWe hope you will join us as he takes a look back at AMLO?s first year in office\, the transformation of Mexico under the Morena Party\, the final steps of USMCA\, and an informed look at the future of Mexico under AMLO. \n\nDon?t miss the business event of the year.  Please see event details and RSVP today to save your seat.
X-ALT-DESC;FMTTYPE=text/html:<div class="N-ZiCg direction-ltr align-center para-style-body" style="color: rgb(34\, 34\, 34)\; text-transform: none\; line-height: 1.09\;" yacgeufdpda=""><span style="font-size:14px\;"><span style="font-family:verdana\;"><span style="color: rgb(34\, 34\, 34)\; text-decoration: none\;"><u><strong>AMLO and the 4th Transformation&nbsp\;of Mexico at One Year</strong></u></span></span></span><br>\n<br>\n<span style="font-family:book antiqua\,serif\;"><span style="font-size:12.0pt\;">A recent headline in the New York Times was enough to raise both eyebrows and valid concerns about what?s happening in Mexico.</span></span><br>\n<em><span style="border:none windowtext 1.0pt\;padding:0in\;"><span style="color:black\;"><span style="font-family:book antiqua\,serif\;"><span style="font-size:12.0pt\;">?López Obrador Is Cruising\, Mexico Is Not?</span></span></span></span></em><br>\n<span style="border:none windowtext 1.0pt\;padding:0in\;"><span style="color:black\;"><span style="font-family:book antiqua\,serif\;"><span style="font-size:12.0pt\;">As we look back upon the first year of Andrés Manuel López Obrador?s (AMLO) term as president of Mexico\, there are areas of concern.&nbsp\; Crime is up\, economic stagnation has set in and AMLO?s social programs continue to grow.&nbsp\; Yet\, the president remains widely popular.&nbsp\; When he ran for office\, AMLO promised 4% growth.&nbsp\; This past year\, Mexico fell into a recession\, and some economists believe it could get even worse in 2020.</span></span></span></span><br>\n<span style="border:none windowtext 1.0pt\;padding:0in\;"><span style="color:black\;"><span style="font-family:book antiqua\,serif\;"><span style="font-size:12.0pt\;">What does all of this mean?&nbsp\; Well\, it?s complicated and that?s why we?re bringing in an expert.&nbsp\; Duncan Wood\, Director of the Mexico Institute at the Woodrow Wilson Center in Washington\, DC is an expert in Mexico policy\, trade\, energy and so much more and we are proud to announce his return to Texas.</span></span></span></span><br>\n<span style="border:none windowtext 1.0pt\;padding:0in\;"><span style="color:black\;"><span style="font-family:book antiqua\,serif\;"><span style="font-size:12.0pt\;">We hope you will join us as he takes a look back at AMLO?s first year in office\, the transformation of Mexico under the Morena Party\, the final steps of USMCA\, and an informed look at the future of Mexico under AMLO. </span></span></span></span><br>\n<span style="border:none windowtext 1.0pt\;padding:0in\;"><span style="color:black\;"><span style="font-family:book antiqua\,serif\;"><span style="font-size:12.0pt\;">Don?t miss the business event of the year.&nbsp\; Please see event details and RSVP today to save your seat. &nbsp\;</span></span></span></span><br>\n&nbsp\;</div>\n
LOCATION:801 Convention Center Blvd. McAllen\,Texas 78501
UID:e.1294.30449
SEQUENCE:3
DTSTAMP:20260420T081615Z
URL:https://business.rgvpartnership.com/events/details/amlo-and-the-4th-transformation-of-m&#233;xico-at-one-year-30449
END:VEVENT

END:VCALENDAR
