BEGIN:VCALENDAR
VERSION:2.0
PRODID:-//ChamberMaster//Event Calendar 2.0//EN
METHOD:PUBLISH
X-PUBLISHED-TTL:P3D
REFRESH-INTERVAL:P3D
CALSCALE:GREGORIAN
BEGIN:VEVENT
DTSTART;VALUE=DATE:20141001
DTEND;VALUE=DATE:20141101
TRANSP:TRANSPARENT
X-MICROSOFT-CDO-ALLDAYEVENT:TRUE
SUMMARY:American Military Support
DESCRIPTION:American Military Support \n\n"Fall Gear-Up" Campaign\n\nNow thru October\, AMS (501C3) is seeking your financial support for the Fall Gear Up campaign. Your support will help in the following ways: Provide fall Quality of Life Packages for our troops\, provide Local Hero Quality of Life Packages to local veterans and local homeless veterans\, provide support to the Alfredo Gonzales TX State Veterans Home. Donations can be mailed to American Military Support\, P.O. Box 533365\, Harlingen\, TX  78553.
X-ALT-DESC;FMTTYPE=text/html:American Military Support&nbsp\;<br />\n&ldquo\;Fall Gear-Up&rdquo\; Campaign<br />\nNow thru October\, AMS (501C3) is seeking your financial support for the Fall Gear Up campaign. Your support will help in the following ways: Provide fall Quality of Life Packages for our troops\, provide Local Hero Quality of Life Packages to local veterans and local homeless veterans\, provide support to the Alfredo Gonzales TX State Veterans Home. Donations can be mailed to American Military Support\, P.O. Box 533365\, Harlingen\, TX&nbsp\; 78553.
LOCATION:
UID:e.1294.30086
SEQUENCE:3
DTSTAMP:20260426T023557Z
URL:https://business.rgvpartnership.com/events/details/american-military-support-10-01-2014-30086
END:VEVENT

END:VCALENDAR
