BEGIN:VCALENDAR
VERSION:2.0
PRODID:-//ChamberMaster//Event Calendar 2.0//EN
METHOD:PUBLISH
X-PUBLISHED-TTL:P3D
REFRESH-INTERVAL:P3D
CALSCALE:GREGORIAN
BEGIN:VEVENT
DTSTART:20150228T160000Z
DTEND:20150228T170000Z
X-MICROSOFT-CDO-ALLDAYEVENT:FALSE
SUMMARY:Always Evolving by Becky Reyes\, Anthropologist
DESCRIPTION:Anthropology is a way to help us understand who we are\, how we came to be that way and where we may go in the future. Becky Reyes\, environmental educator presents on this fascinating subject. February 28\,2015 10:00am Bring a friend Coffee and pastries served. See you there. Valley Nature Center 301 South Border Ave. Weslaco\, Texas 78596 956-969-2475
X-ALT-DESC;FMTTYPE=text/html:Anthropology is a way to help us understand who we are\, how we came to be that way and where we may go in the future. Becky Reyes\, environmental educator presents on this fascinating subject. February 28\,2015 10:00am Bring a friend Coffee and pastries served. See you there. Valley Nature Center 301 South Border Ave. Weslaco\, Texas 78596 956-969-2475
LOCATION:Valley Nature Center 301 South Border Ave. Weslaco\, Texas 78596
UID:e.1294.30142
SEQUENCE:3
DTSTAMP:20260425T203509Z
URL:https://business.rgvpartnership.com/events/details/always-evolving-by-becky-reyes-anthropologist-02-28-2015-30142
END:VEVENT

END:VCALENDAR
