BEGIN:VCALENDAR
VERSION:2.0
PRODID:-//ChamberMaster//Event Calendar 2.0//EN
METHOD:PUBLISH
X-PUBLISHED-TTL:P3D
REFRESH-INTERVAL:P3D
CALSCALE:GREGORIAN
BEGIN:VEVENT
DTSTART:20141016T230000Z
DTEND:20141016T230000Z
X-MICROSOFT-CDO-ALLDAYEVENT:FALSE
SUMMARY:Alfresco Weslaco
DESCRIPTION:Enjoy live music\, art displays\, sidewalk sales\, delicious food and beverages! All in the heart of Downtown Weslaco.  Third Thursday of every month.
X-ALT-DESC;FMTTYPE=text/html:Enjoy live music\, art displays\, sidewalk sales\, delicious food and beverages! All in the heart of Downtown Weslaco.&nbsp\; Third Thursday of every month.&nbsp\;&nbsp\;&nbsp\;&nbsp\;&nbsp\;&nbsp\;&nbsp\;&nbsp\;
LOCATION:Texas Blvd. Downtown Weslaco
UID:e.1294.29639
SEQUENCE:3
DTSTAMP:20260426T040722Z
URL:https://business.rgvpartnership.com/events/details/alfresco-weslaco-10-16-2014-29639
END:VEVENT

END:VCALENDAR
