BEGIN:VCALENDAR
VERSION:2.0
PRODID:-//ChamberMaster//Event Calendar 2.0//EN
METHOD:PUBLISH
X-PUBLISHED-TTL:P3D
REFRESH-INTERVAL:P3D
CALSCALE:GREGORIAN
BEGIN:VEVENT
DTSTART:20141207T010000Z
DTEND:20141207T230000Z
X-MICROSOFT-CDO-ALLDAYEVENT:FALSE
SUMMARY:Aladdin Ballet
DESCRIPTION:McAllen Ballet presents their yearly professional production Aladdin ballet and event for the entire family. This is a must see show that will keep you wanting more. If you would like tickets you can buy them online at www.mcallenballet.com
X-ALT-DESC;FMTTYPE=text/html:McAllen Ballet presents their yearly professional production Aladdin ballet and event for the entire family. This is a must see show that will keep you wanting more. If you would like tickets you can buy them online at www.mcallenballet.com
LOCATION:118 Paseo del Prado Edinburg\, TX 78539
UID:e.1294.30106
SEQUENCE:3
DTSTAMP:20260425T231923Z
URL:https://business.rgvpartnership.com/events/details/aladdin-ballet-12-06-2014-30106
END:VEVENT

END:VCALENDAR
