BEGIN:VCALENDAR
VERSION:2.0
PRODID:-//ChamberMaster//Event Calendar 2.0//EN
METHOD:PUBLISH
X-PUBLISHED-TTL:P3D
REFRESH-INTERVAL:P3D
CALSCALE:GREGORIAN
BEGIN:VEVENT
DTSTART:20190622T130000Z
DTEND:20190622T160000Z
X-MICROSOFT-CDO-ALLDAYEVENT:FALSE
SUMMARY:"Aim For a Cure"
DESCRIPTION:Sporting Clays Tournament .\n\nAll Proceeds to benefit M. D Anderson Cancer Center.\n\nIBC Bank will match your donation dollar for dollar!
X-ALT-DESC;FMTTYPE=text/html:Sporting Clays Tournament .<br />\nAll Proceeds to benefit M. D Anderson Cancer Center.<br />\nIBC Bank will match your donation dollar for dollar!
LOCATION:La Noria Events 1535 S. Alamo RD. Alamo\, TX 78516
UID:e.1294.30435
SEQUENCE:3
DTSTAMP:20260422T153518Z
URL:https://business.rgvpartnership.com/events/details/aime-for-a-cure-30435
END:VEVENT

END:VCALENDAR
