BEGIN:VCALENDAR
VERSION:2.0
PRODID:-//ChamberMaster//Event Calendar 2.0//EN
METHOD:PUBLISH
X-PUBLISHED-TTL:P3D
REFRESH-INTERVAL:P3D
CALSCALE:GREGORIAN
BEGIN:VEVENT
DTSTART:20141105T010000Z
DTEND:20141126T020000Z
X-MICROSOFT-CDO-ALLDAYEVENT:FALSE
SUMMARY:Adult Dance Classes
DESCRIPTION:Sign up today for your first dance class. Space is limited. Our approach is fun and simple\, we teach the steps by breaking down every single step\, and as with all of my classes\, you get to stay with your own partner. It's the perfect class for any beginner and Intermediate dancer. Don't be afraid to get up and dance anymore. Monthly Rates: $20 for single persons $35 for couples Invite Your friends and Family\, spread the word!!!
X-ALT-DESC;FMTTYPE=text/html:Sign up today for your first dance class. Space is limited. Our approach is fun and simple\, we teach the steps by breaking down every single step\, and as with all of my classes\, you get to stay with your own partner. It&#39\;s the perfect class for any beginner and Intermediate dancer. Don&#39\;t be afraid to get up and dance anymore. Monthly Rates: $20 for single persons $35 for couples Invite Your friends and Family\, spread the word!!!
LOCATION:4320 N. Bicentennial Ave. McAllen\, TX 78504 United States
UID:e.1294.30100
SEQUENCE:3
DTSTAMP:20260426T010001Z
URL:https://business.rgvpartnership.com/events/details/adult-dance-classes-11-04-2014-30100
END:VEVENT

END:VCALENDAR
