BEGIN:VCALENDAR
VERSION:2.0
PRODID:-//ChamberMaster//Event Calendar 2.0//EN
METHOD:PUBLISH
X-PUBLISHED-TTL:P3D
REFRESH-INTERVAL:P3D
CALSCALE:GREGORIAN
BEGIN:VEVENT
DTSTART:20141008T000000Z
DTEND:20141029T010000Z
X-MICROSOFT-CDO-ALLDAYEVENT:FALSE
SUMMARY:Adult Dance Classes
DESCRIPTION:Mark your calendar for next weeks class!! We will be having adult dance classes for any couples or singles interested in learning how to dance. I will be instructing different genres for your local social events. They will be held every Tuesday of the month at 4320 N. Bicentennial in McAllen\, Texas. Right behind the McAllen Museum. Great for any beginning and intermediate dancers. Be ready to dance at more events\, parties\, weddings\, anniversaries\, reunions\, or on a cruise! We will teach you one step at a time!!! Our first class of the month will begin October 7th. Classes will be held every Tuesday of the month. Invite your friends and family\, spread the word!!!
X-ALT-DESC;FMTTYPE=text/html:Mark your calendar for next weeks class!! We will be having adult dance classes for any couples or singles interested in learning how to dance. I will be instructing different genres for your local social events. They will be held every Tuesday of the month at 4320 N. Bicentennial in McAllen\, Texas. Right behind the McAllen Museum. Great for any beginning and intermediate dancers. Be ready to dance at more events\, parties\, weddings\, anniversaries\, reunions\, or on a cruise! We will teach you one step at a time!!! Our first class of the month will begin October 7th. Classes will be held every Tuesday of the month. Invite your friends and family\, spread the word!!!
LOCATION:4320 N. Bicentennial Ave.
UID:e.1294.30084
SEQUENCE:3
DTSTAMP:20260426T023521Z
URL:https://business.rgvpartnership.com/events/details/adult-dance-classes-10-07-2014-30084
END:VEVENT

END:VCALENDAR
