BEGIN:VCALENDAR
VERSION:2.0
PRODID:-//ChamberMaster//Event Calendar 2.0//EN
METHOD:PUBLISH
X-PUBLISHED-TTL:P3D
REFRESH-INTERVAL:P3D
CALSCALE:GREGORIAN
BEGIN:VEVENT
DTSTART:20140910T000000Z
DTEND:20141001T010000Z
X-MICROSOFT-CDO-ALLDAYEVENT:FALSE
SUMMARY:Adult Dance Classes
DESCRIPTION:Mark your calendars for every Tuesday of the month!! We will be instructing different types of genres of dance. Great for any beginning and intermediate dancers.
X-ALT-DESC;FMTTYPE=text/html:Mark your calendars for every Tuesday of the month!! We will be instructing different types of genres of dance. Great for any beginning and intermediate dancers.
LOCATION:4320 N. Bicentennial Ave. McAllen\, TX 78504
UID:e.1294.30068
SEQUENCE:3
DTSTAMP:20260426T040533Z
URL:https://business.rgvpartnership.com/events/details/adult-dance-classes-09-09-2014-30068
END:VEVENT

END:VCALENDAR
