BEGIN:VCALENDAR
VERSION:2.0
PRODID:-//ChamberMaster//Event Calendar 2.0//EN
METHOD:PUBLISH
X-PUBLISHED-TTL:P3D
REFRESH-INTERVAL:P3D
CALSCALE:GREGORIAN
BEGIN:VEVENT
DTSTART:20150408T000000Z
DTEND:20150428T000000Z
X-MICROSOFT-CDO-ALLDAYEVENT:FALSE
SUMMARY:Adult Dance Classes
DESCRIPTION:We have moved our dance studio location to Edinburg\, TX. Address is 721 S 19th Ave. If your looking for something to do tonight\, want to be confident on the dance floor or you already dance\, but want to LEARN new moves\, then our Adult Dance Classes is the place to learn. CLASSES ARE taught with a precise attention to the skill and technique of the dance\; LEADING AND FOLLOWING!! that you are sure to learn the moves\, no matter your dance level. Our goal is to make sure you Learn\, Laugh and have fun!! We want you leave smiling and dancing. Check out our new location\, just opened. Group Classes are every Tuesday night at 721 S 19th Ave\, Edinburg\, TX. Come and see why we love it. You will meet new friends and learn new moves you can use the next time you dance the night away with that special someone. I hope to see you on the dance floor.
X-ALT-DESC;FMTTYPE=text/html:We have moved our dance studio location to Edinburg\, TX. Address is 721 S 19th Ave. If your looking for something to do tonight\, want to be confident on the dance floor or you already dance\, but want to LEARN new moves\, then our Adult Dance Classes is the place to learn. CLASSES ARE taught with a precise attention to the skill and technique of the dance\; LEADING AND FOLLOWING!! that you are sure to learn the moves\, no matter your dance level. Our goal is to make sure you Learn\, Laugh and have fun!! We want you leave smiling and dancing. Check out our new location\, just opened. Group Classes are every Tuesday night at 721 S 19th Ave\, Edinburg\, TX. Come and see why we love it. You will meet new friends and learn new moves you can use the next time you dance the night away with that special someone. I hope to see you on the dance floor.
LOCATION:721 S 19th Ave. Edinburg\, TX
UID:e.1294.30210
SEQUENCE:3
DTSTAMP:20260425T111148Z
URL:https://business.rgvpartnership.com/events/details/adult-dance-classes-04-07-2015-30210
END:VEVENT

END:VCALENDAR
