BEGIN:VCALENDAR
VERSION:2.0
PRODID:-//ChamberMaster//Event Calendar 2.0//EN
METHOD:PUBLISH
X-PUBLISHED-TTL:P3D
REFRESH-INTERVAL:P3D
CALSCALE:GREGORIAN
BEGIN:VEVENT
DTSTART:20150204T010000Z
DTEND:20150225T020000Z
X-MICROSOFT-CDO-ALLDAYEVENT:FALSE
SUMMARY:Adult Dance Classes
DESCRIPTION:Are you looking for a way to encourage yourself into a lifelong habits that will get you fit and healthy by helping achieve your academic goals? Are you an adult who has always wanted to dance or looking for a new hobby and way of keeping fit? Register now for Dance classes for all ages. Classes are every Tuesday of the month from 7PM to 8PM. It's the perfect class for any beginner or intermediate dancer interested in learning how to dance. So bring your dance shoes and have fun while getting fit. Be ready to dance at more events\, parties\, weddings anniversaries\, class reunions\, or on a cruise. We will teach you one step at a time. If you are interested in taking dance classes please contact us. Monthly Fee: Single: $20 Couples: $35
X-ALT-DESC;FMTTYPE=text/html:Are you looking for a way to encourage yourself into a lifelong habits that will get you fit and healthy by helping achieve your academic goals? Are you an adult who has always wanted to dance or looking for a new hobby and way of keeping fit? Register now for Dance classes for all ages. Classes are every Tuesday of the month from 7PM to 8PM. It&#39\;s the perfect class for any beginner or intermediate dancer interested in learning how to dance. So bring your dance shoes and have fun while getting fit. Be ready to dance at more events\, parties\, weddings anniversaries\, class reunions\, or on a cruise. We will teach you one step at a time. If you are interested in taking dance classes please contact us. Monthly Fee: Single: $20 Couples: $35
LOCATION:4320 N. Bicentennial Ave. McAllen \, TX 78504
UID:e.1294.30149
SEQUENCE:3
DTSTAMP:20260425T214849Z
URL:https://business.rgvpartnership.com/events/details/adult-dance-classes-02-03-2015-30149
END:VEVENT

END:VCALENDAR
