BEGIN:VCALENDAR
VERSION:2.0
PRODID:-//ChamberMaster//Event Calendar 2.0//EN
METHOD:PUBLISH
X-PUBLISHED-TTL:P3D
REFRESH-INTERVAL:P3D
CALSCALE:GREGORIAN
BEGIN:VEVENT
DTSTART:20150107T010000Z
DTEND:20150128T020000Z
X-MICROSOFT-CDO-ALLDAYEVENT:FALSE
SUMMARY:Adult Dance Classes
DESCRIPTION:Start your New Year's Resolution by registering for your first dance class every Tuesday of the month from 7PM to 8PM. It's the perfect class for any beginner or intermediate dancer interested in learning how to dance. So bring your dance shoes and have fun while getting fit. Be ready to dance at more events\, parties\, weddings\, anniversaries\, reunions\, or on a cruise! We will teach you one step at a time!!! Don't be afraid to get up and dance anymore. If you are interested in taking dance classes please contact us.
X-ALT-DESC;FMTTYPE=text/html:Start your New Year&#39\;s Resolution by registering for your first dance class every Tuesday of the month from 7PM to 8PM. It&#39\;s the perfect class for any beginner or intermediate dancer interested in learning how to dance. So bring your dance shoes and have fun while getting fit. Be ready to dance at more events\, parties\, weddings\, anniversaries\, reunions\, or on a cruise! We will teach you one step at a time!!! Don&#39\;t be afraid to get up and dance anymore. If you are interested in taking dance classes please contact us.
LOCATION:4320 N. Bicentennial Ave. (behind the McAllen Museum) McAllen\, TX 78504 United States
UID:e.1294.30133
SEQUENCE:3
DTSTAMP:20260425T214822Z
URL:https://business.rgvpartnership.com/events/details/adult-dance-classes-01-06-2015-30133
END:VEVENT

END:VCALENDAR
