BEGIN:VCALENDAR
VERSION:2.0
PRODID:-//ChamberMaster//Event Calendar 2.0//EN
METHOD:PUBLISH
X-PUBLISHED-TTL:P3D
REFRESH-INTERVAL:P3D
CALSCALE:GREGORIAN
BEGIN:VEVENT
DTSTART:20151213T010000Z
DTEND:20151213T210000Z
X-MICROSOFT-CDO-ALLDAYEVENT:FALSE
SUMMARY:A Christmas Carol
DESCRIPTION:Mcallen Ballet presents a proffesional production\, directed by the renown Rolando Pacheco. Come join Scrooge with his holiday Christmas Spirit!
X-ALT-DESC;FMTTYPE=text/html:Mcallen Ballet presents a proffesional production\, directed by the renown Rolando Pacheco. Come join Scrooge with his holiday Christmas Spirit!
LOCATION:Edinburg Conference Center 118 Paseo del Prado Edinburg TX 78539
UID:e.1294.30262
SEQUENCE:3
DTSTAMP:20260425T032225Z
URL:https://business.rgvpartnership.com/events/details/a-christmas-carol-12-12-2015-30262
END:VEVENT

END:VCALENDAR
