BEGIN:VCALENDAR
VERSION:2.0
PRODID:-//ChamberMaster//Event Calendar 2.0//EN
METHOD:PUBLISH
X-PUBLISHED-TTL:P3D
REFRESH-INTERVAL:P3D
CALSCALE:GREGORIAN
BEGIN:VEVENT
DTSTART:20150314T130000Z
DTEND:20150314T170000Z
X-MICROSOFT-CDO-ALLDAYEVENT:FALSE
SUMMARY:9th Annual 5K on St. Patrick's Day Run/Walk
DESCRIPTION:The City of Pharr Parks and Recreation Department is proud to announce that it will be hosting the 9th Annual 5K St. Patrick?s Day Run/Walk on Saturday\, March 14\, 2015\, at 9:00 a.m. A 1 mile fun run /walk has been scheduled at 8:00 a.m. for kids ages 10 and under. Last year\, over 1000 participants from the valley\, as well as from across the United States and Mexico\, participated in this event. The 5K race route begins on the west end of PSJA Stadium located on 709 E. Gore\, runners then dash through the heart of this city\, and then finish near the original starting line. Although the primary purpose of this event is to encourage physical fitness through an enjoyable health conscious recreational activity\, it is also intended to promote Pharr?s increasingly charming downtown district. There will be cash prizes and trophies awarded to the top finishers\, and there will also be live music and entertainment for the entire family. Online registration will be available at register.iaapweb.com and the fee is only $5. per participant\, ages 17 and younger\, and $10 for adults.
X-ALT-DESC;FMTTYPE=text/html:The City of Pharr Parks and Recreation Department is proud to announce that it will be hosting the 9th Annual 5K St. Patrick?s Day Run/Walk on Saturday\, March 14\, 2015\, at 9:00 a.m. A 1 mile fun run /walk has been scheduled at 8:00 a.m. for kids ages 10 and under. Last year\, over 1000 participants from the valley\, as well as from across the United States and Mexico\, participated in this event. The 5K race route begins on the west end of PSJA Stadium located on 709 E. Gore\, runners then dash through the heart of this city\, and then finish near the original starting line. Although the primary purpose of this event is to encourage physical fitness through an enjoyable health conscious recreational activity\, it is also intended to promote Pharr?s increasingly charming downtown district. There will be cash prizes and trophies awarded to the top finishers\, and there will also be live music and entertainment for the entire family. Online registration will be available at register.iaapweb.com and the fee is only $5. per participant\, ages 17 and younger\, and $10 for adults.
LOCATION:PSJA Stadium 709 E. Gore\, Pharr\, TX 78577
UID:e.1294.30137
SEQUENCE:3
DTSTAMP:20260425T202510Z
URL:https://business.rgvpartnership.com/events/details/9th-annual-5k-on-st-patrick-s-day-run-walk-03-14-2015-30137
END:VEVENT

END:VCALENDAR
