BEGIN:VCALENDAR
VERSION:2.0
PRODID:-//ChamberMaster//Event Calendar 2.0//EN
METHOD:PUBLISH
X-PUBLISHED-TTL:P3D
REFRESH-INTERVAL:P3D
CALSCALE:GREGORIAN
BEGIN:VEVENT
DTSTART:20141024T230000Z
DTEND:20141025T013000Z
X-MICROSOFT-CDO-ALLDAYEVENT:FALSE
SUMMARY:7th Annual Kids Advantage Fall Festival
DESCRIPTION:Kids of all ages are welcome.  Bring the whole family and your friends!\n\nHey kids join the fun!\n\nWear a kid-friendly Halloween costume.\n\nMeet Eddy\n\nEnjoy games\n\nDance to the music \n\nLots of healthy snacks\n\nLearn about good health and child safety.
X-ALT-DESC;FMTTYPE=text/html:Kids of all ages are welcome. &nbsp\;Bring the whole family and your friends!<br />\nHey kids join the fun!<br />\nWear a kid-friendly Halloween costume.<br />\nMeet Eddy<br />\nEnjoy games<br />\nDance to the music&nbsp\;<br />\nLots of healthy snacks<br />\nLearn about good health and child safety.
LOCATION:Edinburg Children`s Hospital 1102 W. Trenton Road Edinburg\, TX
UID:e.1294.30091
SEQUENCE:3
DTSTAMP:20260426T023957Z
URL:https://business.rgvpartnership.com/events/details/7th-annual-kids-advantage-fall-festival-10-24-2014-30091
END:VEVENT

END:VCALENDAR
