BEGIN:VCALENDAR
VERSION:2.0
PRODID:-//ChamberMaster//Event Calendar 2.0//EN
METHOD:PUBLISH
X-PUBLISHED-TTL:P3D
REFRESH-INTERVAL:P3D
CALSCALE:GREGORIAN
BEGIN:VEVENT
DTSTART:20160326T130000Z
DTEND:20160326T210000Z
X-MICROSOFT-CDO-ALLDAYEVENT:FALSE
SUMMARY:70th Anniversary of Laguna Atascosa National Wildlife Refuge
DESCRIPTION:70th Anniversary of Laguna Atascosa National Wildlife Refuge March 26\, 8 ? 4 Established in 1946\, Laguna Atascosa has been providing habitat for wildlife for 70 years! Enjoy free entrance\, kids activities\, ranger talks and a bird banding demonstration (8-11).
X-ALT-DESC;FMTTYPE=text/html:70th Anniversary of Laguna Atascosa National Wildlife Refuge March 26\, 8 ? 4 Established in 1946\, Laguna Atascosa has been providing habitat for wildlife for 70 years! Enjoy free entrance\, kids activities\, ranger talks and a bird banding demonstration (8-11).
LOCATION:Laguna Atascosa National Wildlife Refuge.
UID:e.1294.30282
SEQUENCE:3
DTSTAMP:20260424T230047Z
URL:https://business.rgvpartnership.com/events/details/70th-anniversary-of-laguna-atascosa-national-wildlife-refuge-03-26-2016-30282
END:VEVENT

END:VCALENDAR
