BEGIN:VCALENDAR
VERSION:2.0
PRODID:-//ChamberMaster//Event Calendar 2.0//EN
METHOD:PUBLISH
X-PUBLISHED-TTL:P3D
REFRESH-INTERVAL:P3D
CALSCALE:GREGORIAN
BEGIN:VEVENT
DTSTART:20181020T123000Z
DTEND:20181020T230000Z
X-MICROSOFT-CDO-ALLDAYEVENT:FALSE
SUMMARY:5th Annual Goodwill Cook Off
DESCRIPTION:Gather your BBQ team and compete for the best BBQ in South Texas at the Goodwill Cook Off on Saturday\, October 20th at Valley Race Park in Harlingen\, TX. This IBCA sanctioned competition is open to both amateurs and professionals. This year\, we are debuting "STREET TACOS" as a jackpot category and KIDS Q is back for the second year. We are super excited to partner with the RGV Mustangs for a all Mustang Car Show. This is a Goodwill event\, so clean out your closets and donate a large bag on gently-used clothing during the donation drive from 8 a.m. - 4 p.m.
X-ALT-DESC;FMTTYPE=text/html:Gather your BBQ team and compete for the best BBQ in South Texas at the Goodwill Cook Off on Saturday\, October 20th at Valley Race Park in Harlingen\, TX. This IBCA sanctioned competition is open to both amateurs and professionals. This year\, we are debuting &quot\;STREET TACOS&quot\; as a jackpot category and KIDS Q is back for the second year. We are super excited to partner with the RGV Mustangs for a all Mustang Car Show. This is a Goodwill event\, so clean out your closets and donate a large bag on gently-used clothing during the donation drive from 8 a.m. - 4 p.m.
LOCATION:Valley Race Park 2601 S. Ed Carey Dr. Harlingen\, TX 78552
UID:e.1294.30426
SEQUENCE:3
DTSTAMP:20260423T044301Z
URL:https://business.rgvpartnership.com/events/details/5th-annual-goodwill-cook-off-10-20-2018-30426
END:VEVENT

END:VCALENDAR
