BEGIN:VCALENDAR
VERSION:2.0
PRODID:-//ChamberMaster//Event Calendar 2.0//EN
METHOD:PUBLISH
X-PUBLISHED-TTL:P3D
REFRESH-INTERVAL:P3D
CALSCALE:GREGORIAN
BEGIN:VEVENT
DTSTART:20180602T120000Z
DTEND:20180602T170000Z
X-MICROSOFT-CDO-ALLDAYEVENT:FALSE
SUMMARY:4th Annual Summer Longest Causeway Run & Fitness Walk
DESCRIPTION:Don't miss your chance to cross the historical Queen Isabella Causeway over the beautiful Laguna Madre by participating in the 5k Fitness Walk or the 10k Run! Finisher medals given to all participants! Proceeds in part to be used in a new scholarship program. Custom Award medals for 1st\, 2nd & 3rd place racers in each age group!
X-ALT-DESC;FMTTYPE=text/html:Don&#39\;t miss your chance to cross the historical Queen Isabella Causeway over the beautiful Laguna Madre by participating in the 5k Fitness Walk or the 10k Run! Finisher medals given to all participants! Proceeds in part to be used in a new scholarship program. Custom Award medals for 1st\, 2nd &amp\; 3rd place racers in each age group!
LOCATION:Port Isabel Chamber of Commerce 421 Queen Isabella Dr. Port Isabel\, TX 78578
UID:e.1294.30415
SEQUENCE:3
DTSTAMP:20260423T095408Z
URL:https://business.rgvpartnership.com/events/details/4th-annual-summer-longest-causeway-run-fitness-walk-30415
END:VEVENT

END:VCALENDAR
