BEGIN:VCALENDAR
VERSION:2.0
PRODID:-//ChamberMaster//Event Calendar 2.0//EN
METHOD:PUBLISH
X-PUBLISHED-TTL:P3D
REFRESH-INTERVAL:P3D
CALSCALE:GREGORIAN
BEGIN:VEVENT
DTSTART:20140927T153000Z
DTEND:20140927T180000Z
X-MICROSOFT-CDO-ALLDAYEVENT:FALSE
SUMMARY:3rd Annual Champagne Brunch
DESCRIPTION:Mark your calendars for the Family Crisis Center?s 3rd Annual Champagne Brunch on Saturday\, September 27\, 2014 and give the Family Crisis Center a call for tickets. The event will be held in the Cultural Arts Center at TSTC in Harlingen. Doors open at 10:30 a.m. for browsing the Silent Auction items and brunch will be served at 11 a.m. by the students in the Culinary Arts Program. A Silent Auction will follow and raffle basket winners will be announced. Brunch tickets are $45 each and table sponsorships are available until September 15th. Raffle tickets are $5 and can be purchased before and during the event ? need not be present to win. Call the Family Crisis Center office at 423-6304 for additional brunch and ticket information. A limited number of tickets will be available at the door the day of the brunch. The brunch promises to be a fun Saturday morning event\, and the funds raised will help support the community programs offered by the Family Crisis Center. FACT: Over One-third of the clients served by the Family Crisis Center are children.
X-ALT-DESC;FMTTYPE=text/html:Mark your calendars for the Family Crisis Center?s 3rd Annual Champagne Brunch on Saturday\, September 27\, 2014 and give the Family Crisis Center a call for tickets. The event will be held in the Cultural Arts Center at TSTC in Harlingen. Doors open at 10:30 a.m. for browsing the Silent Auction items and brunch will be served at 11 a.m. by the students in the Culinary Arts Program. A Silent Auction will follow and raffle basket winners will be announced. Brunch tickets are $45 each and table sponsorships are available until September 15th. Raffle tickets are $5 and can be purchased before and during the event ? need not be present to win. Call the Family Crisis Center office at 423-6304 for additional brunch and ticket information. A limited number of tickets will be available at the door the day of the brunch. The brunch promises to be a fun Saturday morning event\, and the funds raised will help support the community programs offered by the Family Crisis Center. FACT: Over One-third of the clients served by the Family Crisis Center are children.
LOCATION:TSTC
UID:e.1294.30057
SEQUENCE:3
DTSTAMP:20260426T040646Z
URL:https://business.rgvpartnership.com/events/details/3rd-annual-champagne-brunch-09-27-2014-30057
END:VEVENT

END:VCALENDAR
