BEGIN:VCALENDAR
VERSION:2.0
PRODID:-//ChamberMaster//Event Calendar 2.0//EN
METHOD:PUBLISH
X-PUBLISHED-TTL:P3D
REFRESH-INTERVAL:P3D
CALSCALE:GREGORIAN
BEGIN:VEVENT
DTSTART:20150502T140000Z
DTEND:20150502T170000Z
X-MICROSOFT-CDO-ALLDAYEVENT:FALSE
SUMMARY:3rd Annual Brownsville Travel & Tourism Fair
DESCRIPTION:The first full week of May is annually recognized as National Travel and Tourism Week\, a tradition first celebrated in 1984\, established by a Congressional joint resolution passed in 1983. The U.S. travel community has collectively marked the event in a number of creative ways\, from staging local rallies and conducting media outreach to securing proclamations and resolutions from local legislative bodies. Each year\, localized events are presented in cities\, states and travel businesses nationwide to champion the power of travel. The Brownsville Convention & Visitors Bureau will host the 3rd Annual Brownsville Travel & Tourism event on Saturday May 2\, 2015 at the Scale House Visitor Center 1700 E 6th Street from 9:00 am ? 12:00 noon. If you'd like to set up a booth contact Felix Espinoza Jr. at the Scale House Visitor Center (956) 546-3898 or email info@brownsville.org.
X-ALT-DESC;FMTTYPE=text/html:The first full week of May is annually recognized as National Travel and Tourism Week\, a tradition first celebrated in 1984\, established by a Congressional joint resolution passed in 1983. The U.S. travel community has collectively marked the event in a number of creative ways\, from staging local rallies and conducting media outreach to securing proclamations and resolutions from local legislative bodies. Each year\, localized events are presented in cities\, states and travel businesses nationwide to champion the power of travel. The Brownsville Convention &amp\; Visitors Bureau will host the 3rd Annual Brownsville Travel &amp\; Tourism event on Saturday May 2\, 2015 at the Scale House Visitor Center 1700 E 6th Street from 9:00 am ? 12:00 noon. If you&#39\;d like to set up a booth contact Felix Espinoza Jr. at the Scale House Visitor Center (956) 546-3898 or email info@brownsville.org.
LOCATION:Scale House Visitors Center 1700 E 6th St. Brownsville\, TX 78520
UID:e.1294.30227
SEQUENCE:3
DTSTAMP:20260425T161416Z
URL:https://business.rgvpartnership.com/events/details/3rd-annual-brownsville-travel-tourism-fair-05-02-2015-30227
END:VEVENT

END:VCALENDAR
